BEGIN:VCALENDAR
VERSION:2.0
PRODID:SchoolNow
CALSCALE:GREGORIAN
BEGIN:VEVENT
UID:6340e23c-8dc6-11ec-95e7-0e5a0ad5a0eb
DTSTAMP:20220215T152454Z
SUMMARY:Last Day to Add/Drop with no "W" for Summer II classes (Classes tha
 t began 7-5-22)
URL;VALUE=URI:https://www.ladelta.edu/calendar/3103004/last-day-to-add-drop
 -with-no-w-for-summer-ii-classes-classes-that-began-7-5-22
DTSTART;VALUE=DATE:20220706
DTEND;VALUE=DATE:20220707
END:VEVENT
END:VCALENDAR
