BEGIN:VCALENDAR
VERSION:2.0
PRODID:SchoolNow
CALSCALE:GREGORIAN
BEGIN:VEVENT
UID:f3b26e62-8dc6-11ec-9670-0e5a0ad5a0eb
DTSTAMP:20220214T185017Z
SUMMARY:Last Day to drop with 100% Tuition Refund for Summer II classes (Cl
 asses that began 7-5-22)
URL;VALUE=URI:https://www.ladelta.edu/calendar/3103016/last-day-to-drop-wit
 h-100-tuition-refund-for-summer-ii-classes-classes-that-began-7-5-22
DTSTART:20220706T174900Z
DTEND:20220706T184900Z
END:VEVENT
END:VCALENDAR
