BEGIN:VCALENDAR
VERSION:2.0
PRODID:SchoolNow
CALSCALE:GREGORIAN
BEGIN:VEVENT
UID:4ecf83ac-8dc7-11ec-858b-0e5a0ad5a0eb
DTSTAMP:20220214T195331Z
SUMMARY:Final Payment Deadline for Summer II Classes at 2:00 p.m. (Classes 
 that began 7-5-22)
URL;VALUE=URI:https://www.ladelta.edu/calendar/3103028/final-payment-deadli
 ne-for-summer-ii-classes-at-2-00-p-m-classes-that-began-7-5-22
DTSTART:20220707T190000Z
DTEND:20220707T200000Z
END:VEVENT
END:VCALENDAR
