BEGIN:VCALENDAR
VERSION:2.0
PRODID:SchoolNow
CALSCALE:GREGORIAN
BEGIN:VEVENT
UID:8c9476d4-8dc7-11ec-8a3e-0e5a0ad5a0eb
DTSTAMP:20220214T195534Z
SUMMARY:Summer II Show/No Show Reporting Deadline
URL;VALUE=URI:https://www.ladelta.edu/calendar/3103038/summer-ii-show-no-sh
 ow-reporting-deadline
DTSTART:20220711T170000Z
DTEND:20220711T180000Z
END:VEVENT
END:VCALENDAR
