BEGIN:VCALENDAR
VERSION:2.0
PRODID:SchoolNow
CALSCALE:GREGORIAN
BEGIN:VEVENT
UID:05092146-8dc8-11ec-bf75-0e5a0ad5a0eb
DTSTAMP:20220214T195713Z
SUMMARY:First Financial Aid Disbursement for Summer II Classes
URL;VALUE=URI:https://www.ladelta.edu/calendar/3103049/first-financial-aid-
 disbursement-for-summer-ii-classes
DTSTART;VALUE=DATE:20220719
DTEND;VALUE=DATE:20220720
END:VEVENT
END:VCALENDAR
