BEGIN:VCALENDAR
VERSION:2.0
PRODID:SchoolNow
CALSCALE:GREGORIAN
BEGIN:VEVENT
UID:3774f10a-8dc8-11ec-8362-0e5a0ad5a0eb
DTSTAMP:20220214T195832Z
SUMMARY:Last Day to drop Extended Summer/Full Summer Class with a Grade of 
 "W"
URL;VALUE=URI:https://www.ladelta.edu/calendar/3103060/last-day-to-drop-ext
 ended-summer-full-summer-class-with-a-grade-of-w
DTSTART;VALUE=DATE:20220720
DTEND;VALUE=DATE:20220721
END:VEVENT
END:VCALENDAR
