BEGIN:VCALENDAR
VERSION:2.0
PRODID:SchoolNow
CALSCALE:GREGORIAN
BEGIN:VEVENT
UID:c438b450-8dc8-11ec-881b-0e5a0ad5a0eb
DTSTAMP:20220214T190316Z
SUMMARY:Extended Summer/Full Summer/Summer II Final Exams
URL;VALUE=URI:https://www.ladelta.edu/calendar/3103079/extended-summer-full
 -summer-summer-ii-final-exams
DTSTART;VALUE=DATE:20220804
DTEND;VALUE=DATE:20220805
END:VEVENT
END:VCALENDAR
