BEGIN:VCALENDAR
VERSION:2.0
PRODID:SchoolNow
CALSCALE:GREGORIAN
BEGIN:VEVENT
UID:0b2be008-8dc9-11ec-b9c4-0e5a0ad5a0eb
DTSTAMP:20220214T190515Z
SUMMARY:Extended Summer/Full Summer/Summer II Final Grades due
URL;VALUE=URI:https://www.ladelta.edu/calendar/3103082/extended-summer-full
 -summer-summer-ii-final-grades-due
DTSTART:20220805T170000Z
DTEND:20220805T180000Z
END:VEVENT
END:VCALENDAR
