BEGIN:VCALENDAR
VERSION:2.0
PRODID:SchoolNow
CALSCALE:GREGORIAN
BEGIN:VEVENT
UID:66a1e680-8dc9-11ec-a5a3-0e5a0ad5a0eb
DTSTAMP:20220214T190749Z
SUMMARY:Summer Degree Award Date
URL;VALUE=URI:https://www.ladelta.edu/calendar/3103099/summer-degree-award-
 date
DTSTART;VALUE=DATE:20220812
DTEND;VALUE=DATE:20220813
END:VEVENT
END:VCALENDAR
