BEGIN:VCALENDAR
VERSION:2.0
PRODID:SchoolNow
CALSCALE:GREGORIAN
BEGIN:VEVENT
UID:75c0bd58-8dc9-11ec-a6f3-0e5a0ad5a0eb
DTSTAMP:20220214T190814Z
SUMMARY:Summer SAP Review
URL;VALUE=URI:https://www.ladelta.edu/calendar/3103100/summer-sap-review
DTSTART;VALUE=DATE:20220812
DTEND;VALUE=DATE:20220813
END:VEVENT
END:VCALENDAR
