BEGIN:VCALENDAR
VERSION:2.0
PRODID:SchoolNow
CALSCALE:GREGORIAN
BEGIN:VEVENT
UID:979bac6c-8dc9-11ec-b1f2-0e5a0ad5a0eb
DTSTAMP:20220214T190911Z
SUMMARY:Independence Day- All Campuses Closed
URL;VALUE=URI:https://www.ladelta.edu/calendar/3103102/independence-day-all
 -campuses-closed
DTSTART;VALUE=DATE:20220704
DTEND;VALUE=DATE:20220705
END:VEVENT
END:VCALENDAR
