BEGIN:VCALENDAR
VERSION:2.0
PRODID:SchoolNow
CALSCALE:GREGORIAN
BEGIN:VEVENT
UID:42c5b1de-8ddc-11ec-86de-026755811603
DTSTAMP:20220214T212249Z
SUMMARY:Faculty/Staff Development
URL;VALUE=URI:https://www.ladelta.edu/calendar/3103231/faculty-staff-develo
 pment
DTSTART;VALUE=DATE:20220808
DTEND;VALUE=DATE:20220813
END:VEVENT
END:VCALENDAR
