BEGIN:VCALENDAR
VERSION:2.0
PRODID:SchoolNow
CALSCALE:GREGORIAN
BEGIN:VEVENT
UID:aa449992-8ddc-11ec-a8dd-026755811603
DTSTAMP:20220214T212543Z
SUMMARY:Fall 2022 Registration Closes and Payment Deadline at 2:00 p.m.
URL;VALUE=URI:https://www.ladelta.edu/calendar/3103241/fall-2022-registrati
 on-closes-and-payment-deadline-at-2-00-p-m
DTSTART:20220810T190000Z
DTEND:20220810T200000Z
END:VEVENT
END:VCALENDAR
