BEGIN:VCALENDAR
VERSION:2.0
PRODID:SchoolNow
CALSCALE:GREGORIAN
BEGIN:VEVENT
UID:82e12274-8dde-11ec-8627-0e5a0ad5a0eb
DTSTAMP:20220214T213855Z
SUMMARY:Fall Semester and 1st 8 Week Classes Begin
URL;VALUE=URI:https://www.ladelta.edu/calendar/3103267/fall-semester-and-1s
 t-8-week-classes-begin
DTSTART;VALUE=DATE:20220815
DTEND;VALUE=DATE:20220816
END:VEVENT
END:VCALENDAR
