BEGIN:VCALENDAR
VERSION:2.0
PRODID:SchoolNow
CALSCALE:GREGORIAN
BEGIN:VEVENT
UID:8fdf412c-8dde-11ec-b683-0e5a0ad5a0eb
DTSTAMP:20220214T213917Z
SUMMARY:2nd 8 Week Classes Begin
URL;VALUE=URI:https://www.ladelta.edu/calendar/3103268/2nd-8-week-classes-b
 egin
DTSTART;VALUE=DATE:20221010
DTEND;VALUE=DATE:20221011
END:VEVENT
END:VCALENDAR
