BEGIN:VCALENDAR
VERSION:2.0
PRODID:SchoolNow
CALSCALE:GREGORIAN
BEGIN:VEVENT
UID:b5c9a972-8dde-11ec-a1d9-0e5a0ad5a0eb
DTSTAMP:20220214T214054Z
SUMMARY:Fall Semester Late Registration
URL;VALUE=URI:https://www.ladelta.edu/calendar/3103270/fall-semester-and-1s
 t-8-week-late-registration
DTSTART;VALUE=DATE:20220812
DTEND;VALUE=DATE:20220819
END:VEVENT
END:VCALENDAR
