BEGIN:VCALENDAR
VERSION:2.0
PRODID:SchoolNow
CALSCALE:GREGORIAN
BEGIN:VEVENT
UID:da8a694a-8dde-11ec-a9c4-0e5a0ad5a0eb
DTSTAMP:20220214T214123Z
SUMMARY:1st 8 Week Late Registration
URL;VALUE=URI:https://www.ladelta.edu/calendar/3103271/1st-8-week-late-regi
 stration
DTSTART;VALUE=DATE:20220812
DTEND;VALUE=DATE:20220817
END:VEVENT
END:VCALENDAR
