BEGIN:VCALENDAR
VERSION:2.0
PRODID:SchoolNow
CALSCALE:GREGORIAN
BEGIN:VEVENT
UID:0d3a70d8-8ddf-11ec-b282-0e5a0ad5a0eb
DTSTAMP:20220214T214248Z
SUMMARY:Last day to drop with no "W" grade and 100% Tuition Refund for Fall
  2022 Full Semester Classes
URL;VALUE=URI:https://www.ladelta.edu/calendar/3103273/last-day-to-drop-wit
 h-no-w-grade-and-100-tuition-refund-for-fall-2022-full-semester-classes
DTSTART;VALUE=DATE:20220818
DTEND;VALUE=DATE:20220819
END:VEVENT
END:VCALENDAR
