BEGIN:VCALENDAR
VERSION:2.0
PRODID:SchoolNow
CALSCALE:GREGORIAN
BEGIN:VEVENT
UID:23a143e2-8ddf-11ec-b892-0e5a0ad5a0eb
DTSTAMP:20220214T214325Z
SUMMARY:Last day to drop with no "W" grade and 100% Tuition Refund for Fall
  2022 1st 8 Week Classes
URL;VALUE=URI:https://www.ladelta.edu/calendar/3103274/last-day-to-drop-wit
 h-no-w-grade-and-100-tuition-refund-for-fall-2022-1st-8-week-classes
DTSTART;VALUE=DATE:20220816
DTEND;VALUE=DATE:20220817
END:VEVENT
END:VCALENDAR
