BEGIN:VCALENDAR
VERSION:2.0
PRODID:SchoolNow
CALSCALE:GREGORIAN
BEGIN:VEVENT
UID:38d0cf94-8ddf-11ec-be59-0e5a0ad5a0eb
DTSTAMP:20220214T214401Z
SUMMARY:Last day to drop with no "W" grade and 100% Tuition Refund for Fall
  2022 2nd 8 Week Classes
URL;VALUE=URI:https://www.ladelta.edu/calendar/3103276/last-day-to-drop-wit
 h-no-w-grade-and-100-tuition-refund-for-fall-2022-2nd-8-week-classes
DTSTART;VALUE=DATE:20221011
DTEND;VALUE=DATE:20221012
END:VEVENT
END:VCALENDAR
