BEGIN:VCALENDAR
VERSION:2.0
PRODID:SchoolNow
CALSCALE:GREGORIAN
BEGIN:VEVENT
UID:5dde275a-8ddf-11ec-b567-0e5a0ad5a0eb
DTSTAMP:20220214T214503Z
SUMMARY:Fall 2022 Full Semester/1st 8 Week Final Payment Deadline
URL;VALUE=URI:https://www.ladelta.edu/calendar/3103277/fall-2022-full-semes
 ter-1st-8-week-final-payment-deadline
DTSTART:20220818T190000Z
DTEND:20220818T200000Z
END:VEVENT
END:VCALENDAR
