BEGIN:VCALENDAR
VERSION:2.0
PRODID:SchoolNow
CALSCALE:GREGORIAN
BEGIN:VEVENT
UID:7b93320e-8ddf-11ec-ae9f-0e5a0ad5a0eb
DTSTAMP:20220214T214553Z
SUMMARY:Fall 2022 2nd 8 Week Final Payment Deadline
URL;VALUE=URI:https://www.ladelta.edu/calendar/3103281/fall-2022-2nd-8-week
 -final-payment-deadline
DTSTART:20221012T190000Z
DTEND:20221012T200000Z
END:VEVENT
END:VCALENDAR
