BEGIN:VCALENDAR
VERSION:2.0
PRODID:SchoolNow
CALSCALE:GREGORIAN
BEGIN:VEVENT
UID:9980b642-8ddf-11ec-9b01-0e5a0ad5a0eb
DTSTAMP:20220214T214643Z
SUMMARY:Fall 2022 Full Semester/ 1st 8 Week Show/No Show Reporting Deadline
URL;VALUE=URI:https://www.ladelta.edu/calendar/3103283/fall-2022-full-semes
 ter-1st-8-week-show-no-show-reporting-deadline
DTSTART:20220822T170000Z
DTEND:20220822T180000Z
END:VEVENT
END:VCALENDAR
