BEGIN:VCALENDAR
VERSION:2.0
PRODID:SchoolNow
CALSCALE:GREGORIAN
BEGIN:VEVENT
UID:adcbbebc-8ddf-11ec-8186-0e5a0ad5a0eb
DTSTAMP:20220214T214717Z
SUMMARY:Fall 2022 2nd 8 Week Show/No Show Reporting Deadline
URL;VALUE=URI:https://www.ladelta.edu/calendar/3103284/fall-2022-2nd-8-week
 -show-no-show-reporting-deadline
DTSTART:20221017T170000Z
DTEND:20221017T180000Z
END:VEVENT
END:VCALENDAR
