BEGIN:VCALENDAR
VERSION:2.0
PRODID:SchoolNow
CALSCALE:GREGORIAN
BEGIN:VEVENT
UID:f7a7812e-8ddf-11ec-9337-0e5a0ad5a0eb
DTSTAMP:20220825T195647Z
SUMMARY:Fall 2022 Full Semester 50% Refund Period for Tuition Only
URL;VALUE=URI:https://www.ladelta.edu/calendar/3103286/fall-2022-full-summe
 r-50-refund-period-for-tuition-only
DTSTART;VALUE=DATE:20220819
DTEND;VALUE=DATE:20220826
END:VEVENT
END:VCALENDAR
