BEGIN:VCALENDAR
VERSION:2.0
PRODID:SchoolNow
CALSCALE:GREGORIAN
BEGIN:VEVENT
UID:0d1f0c16-8de0-11ec-bd3a-0e5a0ad5a0eb
DTSTAMP:20220825T195700Z
SUMMARY:Fall 2022 Full Semester 25% Refund Period for Tuition Only
URL;VALUE=URI:https://www.ladelta.edu/calendar/3103288/fall-2022-full-summe
 r-25-refund-period-for-tuition-only
DTSTART;VALUE=DATE:20220826
DTEND;VALUE=DATE:20220902
END:VEVENT
END:VCALENDAR
