BEGIN:VCALENDAR
VERSION:2.0
PRODID:SchoolNow
CALSCALE:GREGORIAN
BEGIN:VEVENT
UID:2e80effa-8de0-11ec-8848-0e5a0ad5a0eb
DTSTAMP:20220214T215053Z
SUMMARY:Fall 2022 Full Semester/ 1st 8 Week Financial Aid Disbursement
URL;VALUE=URI:https://www.ladelta.edu/calendar/3103295/fall-2022-full-semes
 ter-1st-8-week-financial-aid-disbursement
DTSTART;VALUE=DATE:20220906
DTEND;VALUE=DATE:20220907
END:VEVENT
END:VCALENDAR
