BEGIN:VCALENDAR
VERSION:2.0
PRODID:SchoolNow
CALSCALE:GREGORIAN
BEGIN:VEVENT
UID:3d7788ac-8de0-11ec-9b99-0e5a0ad5a0eb
DTSTAMP:20220214T215118Z
SUMMARY:2nd 8 Week Financial Aid Disbursement
URL;VALUE=URI:https://www.ladelta.edu/calendar/3103300/2nd-8-week-financial
 -aid-disbursement
DTSTART;VALUE=DATE:20221018
DTEND;VALUE=DATE:20221019
END:VEVENT
END:VCALENDAR
