BEGIN:VCALENDAR
VERSION:2.0
PRODID:SchoolNow
CALSCALE:GREGORIAN
BEGIN:VEVENT
UID:7616a17a-8de0-11ec-8281-0e5a0ad5a0eb
DTSTAMP:20220214T215253Z
SUMMARY:Fall 2022 Full Semester Mid-term Grades Due
URL;VALUE=URI:https://www.ladelta.edu/calendar/3103302/fall-2022-full-semes
 ter-mid-term-grades-due
DTSTART:20221003T170000Z
DTEND:20221003T180000Z
END:VEVENT
END:VCALENDAR
