BEGIN:VCALENDAR
VERSION:2.0
PRODID:SchoolNow
CALSCALE:GREGORIAN
BEGIN:VEVENT
UID:8c464450-8de0-11ec-b36e-0e5a0ad5a0eb
DTSTAMP:20220214T215330Z
SUMMARY:Fall 2022 1st 8 Week Mid-term Grades Due
URL;VALUE=URI:https://www.ladelta.edu/calendar/3103303/fall-2022-1st-8-week
 -mid-term-grades-due
DTSTART:20220919T170000Z
DTEND:20220919T180000Z
END:VEVENT
END:VCALENDAR
