BEGIN:VCALENDAR
VERSION:2.0
PRODID:SchoolNow
CALSCALE:GREGORIAN
BEGIN:VEVENT
UID:9ba81fd6-8de0-11ec-af20-0e5a0ad5a0eb
DTSTAMP:20220214T215356Z
SUMMARY:Fall 2022 2nd 8 Week Mid-term Grades Due
URL;VALUE=URI:https://www.ladelta.edu/calendar/3103304/fall-2022-2nd-8-week
 -mid-term-grades-due
DTSTART:20221114T180000Z
DTEND:20221114T190000Z
END:VEVENT
END:VCALENDAR
