BEGIN:VCALENDAR
VERSION:2.0
PRODID:SchoolNow
CALSCALE:GREGORIAN
BEGIN:VEVENT
UID:b9f0b142-8de0-11ec-b60a-0e5a0ad5a0eb
DTSTAMP:20220214T215447Z
SUMMARY:Fall 2022 Last Day to drop with a "W" grade for Full Semester Class
 es
URL;VALUE=URI:https://www.ladelta.edu/calendar/3103308/fall-2022-last-day-t
 o-drop-with-a-w-grade-for-full-semester-classes
DTSTART;VALUE=DATE:20221110
DTEND;VALUE=DATE:20221111
END:VEVENT
END:VCALENDAR
