BEGIN:VCALENDAR
VERSION:2.0
PRODID:SchoolNow
CALSCALE:GREGORIAN
BEGIN:VEVENT
UID:cca70106-8de0-11ec-b541-0e5a0ad5a0eb
DTSTAMP:20220214T215518Z
SUMMARY:Fall 2022 Last Day to drop with a "W" grade for 1st 8 Week Classes
URL;VALUE=URI:https://www.ladelta.edu/calendar/3103312/fall-2022-last-day-t
 o-drop-with-a-w-grade-for-1st-8-week-classes
DTSTART;VALUE=DATE:20220926
DTEND;VALUE=DATE:20220927
END:VEVENT
END:VCALENDAR
