BEGIN:VCALENDAR
VERSION:2.0
PRODID:SchoolNow
CALSCALE:GREGORIAN
BEGIN:VEVENT
UID:d9f718dc-8de0-11ec-b364-0e5a0ad5a0eb
DTSTAMP:20220214T215541Z
SUMMARY:Fall 2022 Last Day to drop with a "W" grade for 2nd 8 Week Classes
URL;VALUE=URI:https://www.ladelta.edu/calendar/3103322/fall-2022-last-day-t
 o-drop-with-a-w-grade-for-2nd-8-week-classes
DTSTART;VALUE=DATE:20221121
DTEND;VALUE=DATE:20221122
END:VEVENT
END:VCALENDAR
