BEGIN:VCALENDAR
VERSION:2.0
PRODID:SchoolNow
CALSCALE:GREGORIAN
BEGIN:VEVENT
UID:ee46085c-8de0-11ec-8ea5-0e5a0ad5a0eb
DTSTAMP:20220214T215615Z
SUMMARY:Fall 2022 Full Semester Final Exams
URL;VALUE=URI:https://www.ladelta.edu/calendar/3103323/fall-2022-full-semes
 ter-final-exams
DTSTART;VALUE=DATE:20221128
DTEND;VALUE=DATE:20221203
END:VEVENT
END:VCALENDAR
