BEGIN:VCALENDAR
VERSION:2.0
PRODID:SchoolNow
CALSCALE:GREGORIAN
BEGIN:VEVENT
UID:fd1b7cae-8de0-11ec-a918-0e5a0ad5a0eb
DTSTAMP:20220214T215640Z
SUMMARY:Fall 2022 1st 8 Week Final Exams
URL;VALUE=URI:https://www.ladelta.edu/calendar/3103324/fall-2022-1st-8-week
 -final-exams
DTSTART;VALUE=DATE:20221004
DTEND;VALUE=DATE:20221005
END:VEVENT
END:VCALENDAR
