BEGIN:VCALENDAR
VERSION:2.0
PRODID:SchoolNow
CALSCALE:GREGORIAN
BEGIN:VEVENT
UID:08f7af48-8de1-11ec-8a1e-0e5a0ad5a0eb
DTSTAMP:20220214T215659Z
SUMMARY:Fall 2022 2nd 8 Week Final Exams
URL;VALUE=URI:https://www.ladelta.edu/calendar/3103325/fall-2022-2nd-8-week
 -final-exams
DTSTART;VALUE=DATE:20221202
DTEND;VALUE=DATE:20221203
END:VEVENT
END:VCALENDAR
