BEGIN:VCALENDAR
VERSION:2.0
PRODID:SchoolNow
CALSCALE:GREGORIAN
BEGIN:VEVENT
UID:1c61ca96-8de1-11ec-b6e2-0e5a0ad5a0eb
DTSTAMP:20220214T215732Z
SUMMARY:Fall 2022 Final Grades Due
URL;VALUE=URI:https://www.ladelta.edu/calendar/3103326/fall-2022-final-grad
 es-due
DTSTART:20221205T180000Z
DTEND:20221205T190000Z
END:VEVENT
END:VCALENDAR
