BEGIN:VCALENDAR
VERSION:2.0
PRODID:SchoolNow
CALSCALE:GREGORIAN
BEGIN:VEVENT
UID:2e51977c-8de1-11ec-a11a-0e5a0ad5a0eb
DTSTAMP:20220214T215802Z
SUMMARY:Fall 2022 1st 8 Week Final Grades Due
URL;VALUE=URI:https://www.ladelta.edu/calendar/3103327/fall-2022-1st-8-week
 -final-grades-due
DTSTART:20221005T170000Z
DTEND:20221005T180000Z
END:VEVENT
END:VCALENDAR
