BEGIN:VCALENDAR
VERSION:2.0
PRODID:SchoolNow
CALSCALE:GREGORIAN
BEGIN:VEVENT
UID:3dcff518-8de1-11ec-a66e-0e5a0ad5a0eb
DTSTAMP:20220915T151523Z
SUMMARY:Fall 2022- Faculty/Staff Development
URL;VALUE=URI:https://www.ladelta.edu/calendar/3103328/faculty-development
DTSTART;VALUE=DATE:20221206
DTEND;VALUE=DATE:20221214
END:VEVENT
END:VCALENDAR
