BEGIN:VCALENDAR
VERSION:2.0
PRODID:SchoolNow
CALSCALE:GREGORIAN
BEGIN:VEVENT
UID:4dbb54cc-8de1-11ec-85b4-0e5a0ad5a0eb
DTSTAMP:20220214T215855Z
SUMMARY:Fall 2022 Degree Award Date
URL;VALUE=URI:https://www.ladelta.edu/calendar/3103329/fall-2022-degree-awa
 rd-date
DTSTART;VALUE=DATE:20221209
DTEND;VALUE=DATE:20221210
END:VEVENT
END:VCALENDAR
