BEGIN:VCALENDAR
VERSION:2.0
PRODID:SchoolNow
CALSCALE:GREGORIAN
BEGIN:VEVENT
UID:5cf799fa-8de1-11ec-938f-0e5a0ad5a0eb
DTSTAMP:20220214T215920Z
SUMMARY:Fall 2022 SAP Review
URL;VALUE=URI:https://www.ladelta.edu/calendar/3103330/fall-2022-sap-review
DTSTART;VALUE=DATE:20221212
DTEND;VALUE=DATE:20221213
END:VEVENT
END:VCALENDAR
