BEGIN:VCALENDAR
VERSION:2.0
PRODID:SchoolNow
CALSCALE:GREGORIAN
BEGIN:VEVENT
UID:6ef807ca-8de1-11ec-a575-0e5a0ad5a0eb
DTSTAMP:20220214T215951Z
SUMMARY:Labor Day- All Campuses Closed
URL;VALUE=URI:https://www.ladelta.edu/calendar/3103331/labor-day-all-campus
 es-closed
DTSTART;VALUE=DATE:20220905
DTEND;VALUE=DATE:20220906
END:VEVENT
END:VCALENDAR
