BEGIN:VCALENDAR
VERSION:2.0
PRODID:SchoolNow
CALSCALE:GREGORIAN
BEGIN:VEVENT
UID:7e80ef4a-8de1-11ec-a1e6-0e5a0ad5a0eb
DTSTAMP:20220214T220017Z
SUMMARY:Fall Break for Students
URL;VALUE=URI:https://www.ladelta.edu/calendar/3103332/fall-break-for-stude
 nts
DTSTART;VALUE=DATE:20221006
DTEND;VALUE=DATE:20221008
END:VEVENT
END:VCALENDAR
