BEGIN:VCALENDAR
VERSION:2.0
PRODID:SchoolNow
CALSCALE:GREGORIAN
BEGIN:VEVENT
UID:8d9a02dc-8de1-11ec-9f6d-0e5a0ad5a0eb
DTSTAMP:20220214T220042Z
SUMMARY:Thanksgiving Break- All Campuses Closed
URL;VALUE=URI:https://www.ladelta.edu/calendar/3103333/thanksgiving-break-a
 ll-campuses-closed
DTSTART;VALUE=DATE:20221124
DTEND;VALUE=DATE:20221126
END:VEVENT
END:VCALENDAR
