BEGIN:VCALENDAR
VERSION:2.0
PRODID:SchoolNow
CALSCALE:GREGORIAN
BEGIN:VEVENT
UID:f54c8ca6-8de1-11ec-ba65-0e5a0ad5a0eb
DTSTAMP:20220214T220336Z
SUMMARY:Fall 2022 Financial Aid Book Credit begins for Full Semester/1st 8 
 Week Classes and ends September 2
URL;VALUE=URI:https://www.ladelta.edu/calendar/3103337/fall-2022-financial-
 aid-book-credit-begins-for-full-semester-1st-8-week-classes-and-ends-septe
 mber-2
DTSTART;VALUE=DATE:20220808
DTEND;VALUE=DATE:20220809
END:VEVENT
END:VCALENDAR
