BEGIN:VCALENDAR
VERSION:2.0
PRODID:SchoolNow
CALSCALE:GREGORIAN
BEGIN:VEVENT
UID:123bbe90-8de2-11ec-9a88-0e5a0ad5a0eb
DTSTAMP:20220214T220424Z
SUMMARY:Fall 2022 Financial Aid Book Credit begins for 2nd 8 Week Classes a
 nd ends October 18
URL;VALUE=URI:https://www.ladelta.edu/calendar/3103338/fall-2022-financial-
 aid-book-credit-begins-for-2nd-8-week-classes-and-ends-october-18
DTSTART;VALUE=DATE:20221010
DTEND;VALUE=DATE:20221011
END:VEVENT
END:VCALENDAR
