BEGIN:VCALENDAR
VERSION:2.0
PRODID:SchoolNow
CALSCALE:GREGORIAN
BEGIN:VEVENT
UID:260d7440-8de2-11ec-b280-0e5a0ad5a0eb
DTSTAMP:20220214T220458Z
SUMMARY:Fall 2022 Financial Aid Book Credit ends for 2nd 8 Week Classes
URL;VALUE=URI:https://www.ladelta.edu/calendar/3103339/fall-2022-financial-
 aid-book-credit-ends-for-2nd-8-week-classes
DTSTART;VALUE=DATE:20221018
DTEND;VALUE=DATE:20221019
END:VEVENT
END:VCALENDAR
