BEGIN:VCALENDAR
VERSION:2.0
PRODID:SchoolNow
CALSCALE:GREGORIAN
BEGIN:VEVENT
UID:3ae8e9a8-8de2-11ec-95ba-0e5a0ad5a0eb
DTSTAMP:20220214T220533Z
SUMMARY:Fall 2022 Financial Aid Book Credit ends for Full Semester/1st 8 We
 ek Classes
URL;VALUE=URI:https://www.ladelta.edu/calendar/3103340/fall-2022-financial-
 aid-book-credit-ends-for-full-semester-1st-8-week-classes
DTSTART;VALUE=DATE:20220902
DTEND;VALUE=DATE:20220903
END:VEVENT
END:VCALENDAR
