BEGIN:VCALENDAR
VERSION:2.0
PRODID:SchoolNow
CALSCALE:GREGORIAN
BEGIN:VEVENT
UID:4bd6da5e-8de2-11ec-ab98-0e5a0ad5a0eb
DTSTAMP:20220214T220601Z
SUMMARY:LDCC Convocation Day for Faculty and Staff
URL;VALUE=URI:https://www.ladelta.edu/calendar/3103341/ldcc-convocation-day
 -for-faculty-and-staff
DTSTART;VALUE=DATE:20220808
DTEND;VALUE=DATE:20220809
END:VEVENT
END:VCALENDAR
